BEGIN:VCALENDAR
VERSION:2.0
PRODID:-//wp-events-plugin.com//7.2.3.1//EN
BEGIN:VEVENT
UID:1@atelierbespoke.info
DTSTART:20230104T000000Z
DTEND:20230107T004500Z
DTSTAMP:20221231T141201Z
URL:https://atelierbespoke.info/events/workshop/
SUMMARY:Workshop
DESCRIPTION:
LOCATION:Atelier Bespoke HK\, Ritz Plaza\, 122 Austin Rd\,\, Tsim Sha Tsui\
 ,\, HK\,\, Kowloon\, Hong Kong
X-APPLE-STRUCTURED-LOCATION;VALUE=URI;X-ADDRESS=Ritz Plaza\, 122 Austin Rd\
 ,\, Tsim Sha Tsui\,\, HK\,\, Kowloon\, Hong Kong;X-APPLE-RADIUS=100;X-TITL
 E=Atelier Bespoke HK:geo:0,0
END:VEVENT
END:VCALENDAR